BEGIN:VCALENDAR
VERSION:2.0
PRODID:-//Philosophy Department - ECPv6.15.20//NONSGML v1.0//EN
CALSCALE:GREGORIAN
METHOD:PUBLISH
X-ORIGINAL-URL:https://philosophy.uncg.edu
X-WR-CALDESC:Events for Philosophy Department
REFRESH-INTERVAL;VALUE=DURATION:PT1H
X-Robots-Tag:noindex
X-PUBLISHED-TTL:PT1H
BEGIN:VTIMEZONE
TZID:America/New_York
BEGIN:DAYLIGHT
TZOFFSETFROM:-0500
TZOFFSETTO:-0400
TZNAME:EDT
DTSTART:20230312T070000
END:DAYLIGHT
BEGIN:STANDARD
TZOFFSETFROM:-0400
TZOFFSETTO:-0500
TZNAME:EST
DTSTART:20231105T060000
END:STANDARD
BEGIN:DAYLIGHT
TZOFFSETFROM:-0500
TZOFFSETTO:-0400
TZNAME:EDT
DTSTART:20240310T070000
END:DAYLIGHT
BEGIN:STANDARD
TZOFFSETFROM:-0400
TZOFFSETTO:-0500
TZNAME:EST
DTSTART:20241103T060000
END:STANDARD
BEGIN:DAYLIGHT
TZOFFSETFROM:-0500
TZOFFSETTO:-0400
TZNAME:EDT
DTSTART:20250309T070000
END:DAYLIGHT
BEGIN:STANDARD
TZOFFSETFROM:-0400
TZOFFSETTO:-0500
TZNAME:EST
DTSTART:20251102T060000
END:STANDARD
END:VTIMEZONE
BEGIN:VEVENT
DTSTART;TZID=America/New_York:20241018T080000
DTEND;TZID=America/New_York:20241018T180000
DTSTAMP:20260425T133924
CREATED:20240911T144448Z
LAST-MODIFIED:20240926T021900Z
UID:10000009-1729238400-1729274400@philosophy.uncg.edu
SUMMARY:6th Annual UNCG Public Republic
DESCRIPTION:Join us on Oct 18 (8am-6pm) by the Minerva Statue for a public reading of all 10 books of Plato’s Republic. \n\n\n\nFor more information and to volunteer to be a reader\, go to: https://go.uncg.edu/sjed44
URL:https://philosophy.uncg.edu/event/6th-annual-uncg-public-republic/
CATEGORIES:Public Republic
ATTACH;FMTTYPE=image/jpeg:https://philosophy.uncg.edu/wp-content/uploads/2024/09/Big-Flyer-PR-24-1-scaled.jpg
END:VEVENT
END:VCALENDAR